BEGIN:VCALENDAR
VERSION:2.0
PRODID:-//Pearl S. Buck International - ECPv6.15.20//NONSGML v1.0//EN
CALSCALE:GREGORIAN
METHOD:PUBLISH
X-WR-CALNAME:Pearl S. Buck International
X-ORIGINAL-URL:https://pearlsbuck.org
X-WR-CALDESC:Events for Pearl S. Buck International
REFRESH-INTERVAL;VALUE=DURATION:PT1H
X-Robots-Tag:noindex
X-PUBLISHED-TTL:PT1H
BEGIN:VTIMEZONE
TZID:America/New_York
BEGIN:DAYLIGHT
TZOFFSETFROM:-0500
TZOFFSETTO:-0400
TZNAME:EDT
DTSTART:20220313T070000
END:DAYLIGHT
BEGIN:STANDARD
TZOFFSETFROM:-0400
TZOFFSETTO:-0500
TZNAME:EST
DTSTART:20221106T060000
END:STANDARD
BEGIN:DAYLIGHT
TZOFFSETFROM:-0500
TZOFFSETTO:-0400
TZNAME:EDT
DTSTART:20230312T070000
END:DAYLIGHT
BEGIN:STANDARD
TZOFFSETFROM:-0400
TZOFFSETTO:-0500
TZNAME:EST
DTSTART:20231105T060000
END:STANDARD
BEGIN:DAYLIGHT
TZOFFSETFROM:-0500
TZOFFSETTO:-0400
TZNAME:EDT
DTSTART:20240310T070000
END:DAYLIGHT
BEGIN:STANDARD
TZOFFSETFROM:-0400
TZOFFSETTO:-0500
TZNAME:EST
DTSTART:20241103T060000
END:STANDARD
BEGIN:DAYLIGHT
TZOFFSETFROM:-0500
TZOFFSETTO:-0400
TZNAME:EDT
DTSTART:20250309T070000
END:DAYLIGHT
BEGIN:STANDARD
TZOFFSETFROM:-0400
TZOFFSETTO:-0500
TZNAME:EST
DTSTART:20251102T060000
END:STANDARD
END:VTIMEZONE
BEGIN:VEVENT
DTSTART;TZID=America/New_York:20231115T110000
DTEND;TZID=America/New_York:20240107T150000
DTSTAMP:20260425T083822
CREATED:20230719T164541Z
LAST-MODIFIED:20230719T164541Z
UID:10001294-1700046000-1704639600@pearlsbuck.org
SUMMARY:Festival of Trees
DESCRIPTION:Ticket Purchase & Reservation Required \nAvailable by calling 215-249-0100 x110\n \n\n\nEach year during the Annual Festival of Trees\, the rooms of Pearl S. Buck’s iconic Bucks County stone farmhouse come alive with the glow of holiday decorations. The event showcases beautiful trees and vignettes designed by Bucks County’s best artists\, decorators\, and local community groups to convey the spirit of Pearl S. Buck’s legacy as an author\, humanitarian\, and activist. Visitors have the opportunity to vote for their favorite display. This year\, Pearl S. Buck International is thrilled to treat guests to a new exhibit displayed throughout the Pearl S. Buck House of original artwork by renowned artist Anna Marie Magagna\, created to illustrate Pearl S. Buck’s children’s book\, Christmas Miniature. Festival of Trees remains one of the most unique and historic holiday traditions in the region. \nLife and Legacy Tour:\n$18 Adult \n$15 Senior (62+) \n$10 Student \nDécor Tour\n$10 per person \nGroup Rate\n$14
URL:https://pearlsbuck.org/event/festival-of-trees-2/
LOCATION:Pearl S. Buck House\, 520 Dublin Road\, Perkasie\, PA\, 18944\, United States
CATEGORIES:Holiday,Signature Events,Special Events
ATTACH;FMTTYPE=image/jpeg:https://pearlsbuck.org/wp-content/uploads/2021/11/IMG_2838.jpg
END:VEVENT
BEGIN:VEVENT
DTSTART;TZID=America/New_York:20231201T100000
DTEND;TZID=America/New_York:20231201T160000
DTSTAMP:20260425T083822
CREATED:20230719T164341Z
LAST-MODIFIED:20230719T164341Z
UID:10001291-1701424800-1701446400@pearlsbuck.org
SUMMARY:Holiday Craft Show
DESCRIPTION:The Holiday Craft Show has been a Bucks County tradition for almost three decades. Enjoy a unique shopping experience at this high end craft show which offers jury-selected gifts\, decorations\, food\, jewelry\, apparel\, and more from professional crafters\, artists\, and chefs. The Holiday Craft Show is the perfect place to find an array of amazing holiday gifts for your family and friends.\n\n\nProduced by\nthe Pearl S. Buck Volunteer Association. \nProceeds go to support the work and mission of Pearl S. Buck International
URL:https://pearlsbuck.org/event/holiday-craft-show-3/2023-12-01/
LOCATION:Pearl S Buck International\, 520 Dublin Road\, Perkasie\, PA
CATEGORIES:Holiday,Special Events,Volunteers
ATTACH;FMTTYPE=image/jpeg:https://pearlsbuck.org/wp-content/uploads/2021/06/craft-show.jpeg
END:VEVENT
BEGIN:VEVENT
DTSTART;TZID=America/New_York:20231202T100000
DTEND;TZID=America/New_York:20231202T160000
DTSTAMP:20260425T083822
CREATED:20230719T164341Z
LAST-MODIFIED:20230719T164341Z
UID:10001292-1701511200-1701532800@pearlsbuck.org
SUMMARY:Holiday Craft Show
DESCRIPTION:The Holiday Craft Show has been a Bucks County tradition for almost three decades. Enjoy a unique shopping experience at this high end craft show which offers jury-selected gifts\, decorations\, food\, jewelry\, apparel\, and more from professional crafters\, artists\, and chefs. The Holiday Craft Show is the perfect place to find an array of amazing holiday gifts for your family and friends.\n\n\nProduced by\nthe Pearl S. Buck Volunteer Association. \nProceeds go to support the work and mission of Pearl S. Buck International
URL:https://pearlsbuck.org/event/holiday-craft-show-3/2023-12-02/
LOCATION:Pearl S Buck International\, 520 Dublin Road\, Perkasie\, PA
CATEGORIES:Holiday,Special Events,Volunteers
ATTACH;FMTTYPE=image/jpeg:https://pearlsbuck.org/wp-content/uploads/2021/06/craft-show.jpeg
END:VEVENT
BEGIN:VEVENT
DTSTART;TZID=America/New_York:20231210T150000
DTEND;TZID=America/New_York:20231210T170000
DTSTAMP:20260425T083822
CREATED:20230719T164103Z
LAST-MODIFIED:20230719T164103Z
UID:10001283-1702220400-1702227600@pearlsbuck.org
SUMMARY:Community Holiday Party
DESCRIPTION:Be our guest at the Community Holiday Open House which features complimentary tours of the Festival of Trees. This annual event carries on the historic tradition of Pearl S. Buck’s holiday party for the community. Please save the date for this special event.
URL:https://pearlsbuck.org/event/community-holiday-party/
LOCATION:Pearl S Buck International\, 520 Dublin Road\, Perkasie\, PA
CATEGORIES:Holiday,Special Events
ATTACH;FMTTYPE=image/jpeg:https://pearlsbuck.org/wp-content/uploads/2021/06/signatureevents-holiday-open-house.jpeg
END:VEVENT
BEGIN:VEVENT
DTSTART;TZID=America/New_York:20231217T140000
DTEND;TZID=America/New_York:20231217T170000
DTSTAMP:20260425T083822
CREATED:20230926T154323Z
LAST-MODIFIED:20230926T154323Z
UID:10001302-1702821600-1702832400@pearlsbuck.org
SUMMARY:Winter Holiday Centerpiece-Making Class with Mark Bryan Designs
DESCRIPTION:Based out of Upper Black Eddy\, Mark Bryan has over 30 years of excelling at floral design\, landscaping design\, and horticultural experience. Bring your friends and family members as Mark expertly leads you in the design and creation of stunning centerpiece for the holidays.
URL:https://pearlsbuck.org/event/winter-holiday-centerpiece-making-class-with-mark-bryan-designs/
LOCATION:Pearl S Buck International\, 520 Dublin Road\, Perkasie\, PA
CATEGORIES:Holiday,Special Events
ATTACH;FMTTYPE=image/jpeg:https://pearlsbuck.org/wp-content/uploads/2023/09/christmas-1125147_1280.jpg
END:VEVENT
END:VCALENDAR