BEGIN:VCALENDAR
VERSION:2.0
PRODID:-//Pearl S. Buck International - ECPv6.15.20//NONSGML v1.0//EN
CALSCALE:GREGORIAN
METHOD:PUBLISH
X-ORIGINAL-URL:https://pearlsbuck.org
X-WR-CALDESC:Events for Pearl S. Buck International
REFRESH-INTERVAL;VALUE=DURATION:PT1H
X-Robots-Tag:noindex
X-PUBLISHED-TTL:PT1H
BEGIN:VTIMEZONE
TZID:America/New_York
BEGIN:DAYLIGHT
TZOFFSETFROM:-0500
TZOFFSETTO:-0400
TZNAME:EDT
DTSTART:20230312T070000
END:DAYLIGHT
BEGIN:STANDARD
TZOFFSETFROM:-0400
TZOFFSETTO:-0500
TZNAME:EST
DTSTART:20231105T060000
END:STANDARD
BEGIN:DAYLIGHT
TZOFFSETFROM:-0500
TZOFFSETTO:-0400
TZNAME:EDT
DTSTART:20240310T070000
END:DAYLIGHT
BEGIN:STANDARD
TZOFFSETFROM:-0400
TZOFFSETTO:-0500
TZNAME:EST
DTSTART:20241103T060000
END:STANDARD
BEGIN:DAYLIGHT
TZOFFSETFROM:-0500
TZOFFSETTO:-0400
TZNAME:EDT
DTSTART:20250309T070000
END:DAYLIGHT
BEGIN:STANDARD
TZOFFSETFROM:-0400
TZOFFSETTO:-0500
TZNAME:EST
DTSTART:20251102T060000
END:STANDARD
END:VTIMEZONE
BEGIN:VEVENT
DTSTART;TZID=America/New_York:20241211T110000
DTEND;TZID=America/New_York:20241211T160000
DTSTAMP:20260422T015606
CREATED:20241210T181944Z
LAST-MODIFIED:20241210T181944Z
UID:10001431-1733914800-1733932800@pearlsbuck.org
SUMMARY:Festival of Trees
DESCRIPTION:Each year during the Annual Festival of Trees\, the rooms of Pearl S. Buck’s iconic Bucks County stone farmhouse come alive with the glow of holiday decorations. The event showcases beautiful trees and vignettes designed by Bucks County’s best artists\, decorators\, and local community groups to convey the spirit of Pearl S. Buck’s legacy as an author\, humanitarian\, and activist. Visitors have the opportunity to vote for their favorite display. Festival of Trees remains one of the most unique and historic holiday traditions in the region. \nFestival of Trees Life & Legacy Tour \nTuesday-Saturday 11 am\, 1 pm\, and 2 pm \nSunday 1 pm & 2 pm \nFestival of Trees Decor Tour (no historical interpretation) \nTuesday-Friday 10 am & 3 pm \nSaturday 10 am
URL:https://pearlsbuck.org/event/festival-of-trees-3/2024-12-11/
LOCATION:PA
CATEGORIES:Holiday,House Tour,Signature Events
ATTACH;FMTTYPE=image/jpeg:https://pearlsbuck.org/wp-content/uploads/2023/01/1116221849c-scaled.jpg
END:VEVENT
BEGIN:VEVENT
DTSTART;TZID=America/New_York:20241212T110000
DTEND;TZID=America/New_York:20241212T160000
DTSTAMP:20260422T015606
CREATED:20241210T181944Z
LAST-MODIFIED:20241210T181944Z
UID:10001432-1734001200-1734019200@pearlsbuck.org
SUMMARY:Festival of Trees
DESCRIPTION:Each year during the Annual Festival of Trees\, the rooms of Pearl S. Buck’s iconic Bucks County stone farmhouse come alive with the glow of holiday decorations. The event showcases beautiful trees and vignettes designed by Bucks County’s best artists\, decorators\, and local community groups to convey the spirit of Pearl S. Buck’s legacy as an author\, humanitarian\, and activist. Visitors have the opportunity to vote for their favorite display. Festival of Trees remains one of the most unique and historic holiday traditions in the region. \nFestival of Trees Life & Legacy Tour \nTuesday-Saturday 11 am\, 1 pm\, and 2 pm \nSunday 1 pm & 2 pm \nFestival of Trees Decor Tour (no historical interpretation) \nTuesday-Friday 10 am & 3 pm \nSaturday 10 am
URL:https://pearlsbuck.org/event/festival-of-trees-3/2024-12-12/
LOCATION:PA
CATEGORIES:Holiday,House Tour,Signature Events
ATTACH;FMTTYPE=image/jpeg:https://pearlsbuck.org/wp-content/uploads/2023/01/1116221849c-scaled.jpg
END:VEVENT
BEGIN:VEVENT
DTSTART;TZID=America/New_York:20241213T110000
DTEND;TZID=America/New_York:20241213T160000
DTSTAMP:20260422T015606
CREATED:20241210T181944Z
LAST-MODIFIED:20241210T181944Z
UID:10001433-1734087600-1734105600@pearlsbuck.org
SUMMARY:Festival of Trees
DESCRIPTION:Each year during the Annual Festival of Trees\, the rooms of Pearl S. Buck’s iconic Bucks County stone farmhouse come alive with the glow of holiday decorations. The event showcases beautiful trees and vignettes designed by Bucks County’s best artists\, decorators\, and local community groups to convey the spirit of Pearl S. Buck’s legacy as an author\, humanitarian\, and activist. Visitors have the opportunity to vote for their favorite display. Festival of Trees remains one of the most unique and historic holiday traditions in the region. \nFestival of Trees Life & Legacy Tour \nTuesday-Saturday 11 am\, 1 pm\, and 2 pm \nSunday 1 pm & 2 pm \nFestival of Trees Decor Tour (no historical interpretation) \nTuesday-Friday 10 am & 3 pm \nSaturday 10 am
URL:https://pearlsbuck.org/event/festival-of-trees-3/2024-12-13/
LOCATION:PA
CATEGORIES:Holiday,House Tour,Signature Events
ATTACH;FMTTYPE=image/jpeg:https://pearlsbuck.org/wp-content/uploads/2023/01/1116221849c-scaled.jpg
END:VEVENT
BEGIN:VEVENT
DTSTART;TZID=America/New_York:20241214T110000
DTEND;TZID=America/New_York:20241214T160000
DTSTAMP:20260422T015606
CREATED:20241210T181944Z
LAST-MODIFIED:20241210T181944Z
UID:10001434-1734174000-1734192000@pearlsbuck.org
SUMMARY:Festival of Trees
DESCRIPTION:Each year during the Annual Festival of Trees\, the rooms of Pearl S. Buck’s iconic Bucks County stone farmhouse come alive with the glow of holiday decorations. The event showcases beautiful trees and vignettes designed by Bucks County’s best artists\, decorators\, and local community groups to convey the spirit of Pearl S. Buck’s legacy as an author\, humanitarian\, and activist. Visitors have the opportunity to vote for their favorite display. Festival of Trees remains one of the most unique and historic holiday traditions in the region. \nFestival of Trees Life & Legacy Tour \nTuesday-Saturday 11 am\, 1 pm\, and 2 pm \nSunday 1 pm & 2 pm \nFestival of Trees Decor Tour (no historical interpretation) \nTuesday-Friday 10 am & 3 pm \nSaturday 10 am
URL:https://pearlsbuck.org/event/festival-of-trees-3/2024-12-14/
LOCATION:PA
CATEGORIES:Holiday,House Tour,Signature Events
ATTACH;FMTTYPE=image/jpeg:https://pearlsbuck.org/wp-content/uploads/2023/01/1116221849c-scaled.jpg
END:VEVENT
BEGIN:VEVENT
DTSTART;TZID=America/New_York:20241215T110000
DTEND;TZID=America/New_York:20241215T160000
DTSTAMP:20260422T015606
CREATED:20241210T181944Z
LAST-MODIFIED:20241210T181944Z
UID:10001435-1734260400-1734278400@pearlsbuck.org
SUMMARY:Festival of Trees
DESCRIPTION:Each year during the Annual Festival of Trees\, the rooms of Pearl S. Buck’s iconic Bucks County stone farmhouse come alive with the glow of holiday decorations. The event showcases beautiful trees and vignettes designed by Bucks County’s best artists\, decorators\, and local community groups to convey the spirit of Pearl S. Buck’s legacy as an author\, humanitarian\, and activist. Visitors have the opportunity to vote for their favorite display. Festival of Trees remains one of the most unique and historic holiday traditions in the region. \nFestival of Trees Life & Legacy Tour \nTuesday-Saturday 11 am\, 1 pm\, and 2 pm \nSunday 1 pm & 2 pm \nFestival of Trees Decor Tour (no historical interpretation) \nTuesday-Friday 10 am & 3 pm \nSaturday 10 am
URL:https://pearlsbuck.org/event/festival-of-trees-3/2024-12-15/
LOCATION:PA
CATEGORIES:Holiday,House Tour,Signature Events
ATTACH;FMTTYPE=image/jpeg:https://pearlsbuck.org/wp-content/uploads/2023/01/1116221849c-scaled.jpg
END:VEVENT
BEGIN:VEVENT
DTSTART;TZID=America/New_York:20241217T110000
DTEND;TZID=America/New_York:20241217T160000
DTSTAMP:20260422T015606
CREATED:20241210T181944Z
LAST-MODIFIED:20241210T181944Z
UID:10001436-1734433200-1734451200@pearlsbuck.org
SUMMARY:Festival of Trees
DESCRIPTION:Each year during the Annual Festival of Trees\, the rooms of Pearl S. Buck’s iconic Bucks County stone farmhouse come alive with the glow of holiday decorations. The event showcases beautiful trees and vignettes designed by Bucks County’s best artists\, decorators\, and local community groups to convey the spirit of Pearl S. Buck’s legacy as an author\, humanitarian\, and activist. Visitors have the opportunity to vote for their favorite display. Festival of Trees remains one of the most unique and historic holiday traditions in the region. \nFestival of Trees Life & Legacy Tour \nTuesday-Saturday 11 am\, 1 pm\, and 2 pm \nSunday 1 pm & 2 pm \nFestival of Trees Decor Tour (no historical interpretation) \nTuesday-Friday 10 am & 3 pm \nSaturday 10 am
URL:https://pearlsbuck.org/event/festival-of-trees-3/2024-12-17/
LOCATION:PA
CATEGORIES:Holiday,House Tour,Signature Events
ATTACH;FMTTYPE=image/jpeg:https://pearlsbuck.org/wp-content/uploads/2023/01/1116221849c-scaled.jpg
END:VEVENT
BEGIN:VEVENT
DTSTART;TZID=America/New_York:20241218T110000
DTEND;TZID=America/New_York:20241218T160000
DTSTAMP:20260422T015606
CREATED:20241210T181944Z
LAST-MODIFIED:20241210T181944Z
UID:10001437-1734519600-1734537600@pearlsbuck.org
SUMMARY:Festival of Trees
DESCRIPTION:Each year during the Annual Festival of Trees\, the rooms of Pearl S. Buck’s iconic Bucks County stone farmhouse come alive with the glow of holiday decorations. The event showcases beautiful trees and vignettes designed by Bucks County’s best artists\, decorators\, and local community groups to convey the spirit of Pearl S. Buck’s legacy as an author\, humanitarian\, and activist. Visitors have the opportunity to vote for their favorite display. Festival of Trees remains one of the most unique and historic holiday traditions in the region. \nFestival of Trees Life & Legacy Tour \nTuesday-Saturday 11 am\, 1 pm\, and 2 pm \nSunday 1 pm & 2 pm \nFestival of Trees Decor Tour (no historical interpretation) \nTuesday-Friday 10 am & 3 pm \nSaturday 10 am
URL:https://pearlsbuck.org/event/festival-of-trees-3/2024-12-18/
LOCATION:PA
CATEGORIES:Holiday,House Tour,Signature Events
ATTACH;FMTTYPE=image/jpeg:https://pearlsbuck.org/wp-content/uploads/2023/01/1116221849c-scaled.jpg
END:VEVENT
BEGIN:VEVENT
DTSTART;TZID=America/New_York:20241219T110000
DTEND;TZID=America/New_York:20241219T160000
DTSTAMP:20260422T015606
CREATED:20241210T181944Z
LAST-MODIFIED:20241210T181944Z
UID:10001438-1734606000-1734624000@pearlsbuck.org
SUMMARY:Festival of Trees
DESCRIPTION:Each year during the Annual Festival of Trees\, the rooms of Pearl S. Buck’s iconic Bucks County stone farmhouse come alive with the glow of holiday decorations. The event showcases beautiful trees and vignettes designed by Bucks County’s best artists\, decorators\, and local community groups to convey the spirit of Pearl S. Buck’s legacy as an author\, humanitarian\, and activist. Visitors have the opportunity to vote for their favorite display. Festival of Trees remains one of the most unique and historic holiday traditions in the region. \nFestival of Trees Life & Legacy Tour \nTuesday-Saturday 11 am\, 1 pm\, and 2 pm \nSunday 1 pm & 2 pm \nFestival of Trees Decor Tour (no historical interpretation) \nTuesday-Friday 10 am & 3 pm \nSaturday 10 am
URL:https://pearlsbuck.org/event/festival-of-trees-3/2024-12-19/
LOCATION:PA
CATEGORIES:Holiday,House Tour,Signature Events
ATTACH;FMTTYPE=image/jpeg:https://pearlsbuck.org/wp-content/uploads/2023/01/1116221849c-scaled.jpg
END:VEVENT
BEGIN:VEVENT
DTSTART;TZID=America/New_York:20241220T110000
DTEND;TZID=America/New_York:20241220T160000
DTSTAMP:20260422T015606
CREATED:20241210T181944Z
LAST-MODIFIED:20241210T181944Z
UID:10001439-1734692400-1734710400@pearlsbuck.org
SUMMARY:Festival of Trees
DESCRIPTION:Each year during the Annual Festival of Trees\, the rooms of Pearl S. Buck’s iconic Bucks County stone farmhouse come alive with the glow of holiday decorations. The event showcases beautiful trees and vignettes designed by Bucks County’s best artists\, decorators\, and local community groups to convey the spirit of Pearl S. Buck’s legacy as an author\, humanitarian\, and activist. Visitors have the opportunity to vote for their favorite display. Festival of Trees remains one of the most unique and historic holiday traditions in the region. \nFestival of Trees Life & Legacy Tour \nTuesday-Saturday 11 am\, 1 pm\, and 2 pm \nSunday 1 pm & 2 pm \nFestival of Trees Decor Tour (no historical interpretation) \nTuesday-Friday 10 am & 3 pm \nSaturday 10 am
URL:https://pearlsbuck.org/event/festival-of-trees-3/2024-12-20/
LOCATION:PA
CATEGORIES:Holiday,House Tour,Signature Events
ATTACH;FMTTYPE=image/jpeg:https://pearlsbuck.org/wp-content/uploads/2023/01/1116221849c-scaled.jpg
END:VEVENT
BEGIN:VEVENT
DTSTART;TZID=America/New_York:20241221T110000
DTEND;TZID=America/New_York:20241221T160000
DTSTAMP:20260422T015606
CREATED:20241210T181944Z
LAST-MODIFIED:20241210T181944Z
UID:10001440-1734778800-1734796800@pearlsbuck.org
SUMMARY:Festival of Trees
DESCRIPTION:Each year during the Annual Festival of Trees\, the rooms of Pearl S. Buck’s iconic Bucks County stone farmhouse come alive with the glow of holiday decorations. The event showcases beautiful trees and vignettes designed by Bucks County’s best artists\, decorators\, and local community groups to convey the spirit of Pearl S. Buck’s legacy as an author\, humanitarian\, and activist. Visitors have the opportunity to vote for their favorite display. Festival of Trees remains one of the most unique and historic holiday traditions in the region. \nFestival of Trees Life & Legacy Tour \nTuesday-Saturday 11 am\, 1 pm\, and 2 pm \nSunday 1 pm & 2 pm \nFestival of Trees Decor Tour (no historical interpretation) \nTuesday-Friday 10 am & 3 pm \nSaturday 10 am
URL:https://pearlsbuck.org/event/festival-of-trees-3/2024-12-21/
LOCATION:PA
CATEGORIES:Holiday,House Tour,Signature Events
ATTACH;FMTTYPE=image/jpeg:https://pearlsbuck.org/wp-content/uploads/2023/01/1116221849c-scaled.jpg
END:VEVENT
BEGIN:VEVENT
DTSTART;TZID=America/New_York:20241222T110000
DTEND;TZID=America/New_York:20241222T160000
DTSTAMP:20260422T015606
CREATED:20241210T181944Z
LAST-MODIFIED:20241210T181944Z
UID:10001441-1734865200-1734883200@pearlsbuck.org
SUMMARY:Festival of Trees
DESCRIPTION:Each year during the Annual Festival of Trees\, the rooms of Pearl S. Buck’s iconic Bucks County stone farmhouse come alive with the glow of holiday decorations. The event showcases beautiful trees and vignettes designed by Bucks County’s best artists\, decorators\, and local community groups to convey the spirit of Pearl S. Buck’s legacy as an author\, humanitarian\, and activist. Visitors have the opportunity to vote for their favorite display. Festival of Trees remains one of the most unique and historic holiday traditions in the region. \nFestival of Trees Life & Legacy Tour \nTuesday-Saturday 11 am\, 1 pm\, and 2 pm \nSunday 1 pm & 2 pm \nFestival of Trees Decor Tour (no historical interpretation) \nTuesday-Friday 10 am & 3 pm \nSaturday 10 am
URL:https://pearlsbuck.org/event/festival-of-trees-3/2024-12-22/
LOCATION:PA
CATEGORIES:Holiday,House Tour,Signature Events
ATTACH;FMTTYPE=image/jpeg:https://pearlsbuck.org/wp-content/uploads/2023/01/1116221849c-scaled.jpg
END:VEVENT
BEGIN:VEVENT
DTSTART;TZID=America/New_York:20241224T110000
DTEND;TZID=America/New_York:20241224T160000
DTSTAMP:20260422T015606
CREATED:20241210T181944Z
LAST-MODIFIED:20241210T181944Z
UID:10001442-1735038000-1735056000@pearlsbuck.org
SUMMARY:Festival of Trees
DESCRIPTION:Each year during the Annual Festival of Trees\, the rooms of Pearl S. Buck’s iconic Bucks County stone farmhouse come alive with the glow of holiday decorations. The event showcases beautiful trees and vignettes designed by Bucks County’s best artists\, decorators\, and local community groups to convey the spirit of Pearl S. Buck’s legacy as an author\, humanitarian\, and activist. Visitors have the opportunity to vote for their favorite display. Festival of Trees remains one of the most unique and historic holiday traditions in the region. \nFestival of Trees Life & Legacy Tour \nTuesday-Saturday 11 am\, 1 pm\, and 2 pm \nSunday 1 pm & 2 pm \nFestival of Trees Decor Tour (no historical interpretation) \nTuesday-Friday 10 am & 3 pm \nSaturday 10 am
URL:https://pearlsbuck.org/event/festival-of-trees-3/2024-12-24/
LOCATION:PA
CATEGORIES:Holiday,House Tour,Signature Events
ATTACH;FMTTYPE=image/jpeg:https://pearlsbuck.org/wp-content/uploads/2023/01/1116221849c-scaled.jpg
END:VEVENT
BEGIN:VEVENT
DTSTART;TZID=America/New_York:20241225T110000
DTEND;TZID=America/New_York:20241225T160000
DTSTAMP:20260422T015606
CREATED:20241210T181944Z
LAST-MODIFIED:20241210T181944Z
UID:10001443-1735124400-1735142400@pearlsbuck.org
SUMMARY:Festival of Trees
DESCRIPTION:Each year during the Annual Festival of Trees\, the rooms of Pearl S. Buck’s iconic Bucks County stone farmhouse come alive with the glow of holiday decorations. The event showcases beautiful trees and vignettes designed by Bucks County’s best artists\, decorators\, and local community groups to convey the spirit of Pearl S. Buck’s legacy as an author\, humanitarian\, and activist. Visitors have the opportunity to vote for their favorite display. Festival of Trees remains one of the most unique and historic holiday traditions in the region. \nFestival of Trees Life & Legacy Tour \nTuesday-Saturday 11 am\, 1 pm\, and 2 pm \nSunday 1 pm & 2 pm \nFestival of Trees Decor Tour (no historical interpretation) \nTuesday-Friday 10 am & 3 pm \nSaturday 10 am
URL:https://pearlsbuck.org/event/festival-of-trees-3/2024-12-25/
LOCATION:PA
CATEGORIES:Holiday,House Tour,Signature Events
ATTACH;FMTTYPE=image/jpeg:https://pearlsbuck.org/wp-content/uploads/2023/01/1116221849c-scaled.jpg
END:VEVENT
BEGIN:VEVENT
DTSTART;TZID=America/New_York:20241226T110000
DTEND;TZID=America/New_York:20241226T160000
DTSTAMP:20260422T015606
CREATED:20241210T181944Z
LAST-MODIFIED:20241210T181944Z
UID:10001444-1735210800-1735228800@pearlsbuck.org
SUMMARY:Festival of Trees
DESCRIPTION:Each year during the Annual Festival of Trees\, the rooms of Pearl S. Buck’s iconic Bucks County stone farmhouse come alive with the glow of holiday decorations. The event showcases beautiful trees and vignettes designed by Bucks County’s best artists\, decorators\, and local community groups to convey the spirit of Pearl S. Buck’s legacy as an author\, humanitarian\, and activist. Visitors have the opportunity to vote for their favorite display. Festival of Trees remains one of the most unique and historic holiday traditions in the region. \nFestival of Trees Life & Legacy Tour \nTuesday-Saturday 11 am\, 1 pm\, and 2 pm \nSunday 1 pm & 2 pm \nFestival of Trees Decor Tour (no historical interpretation) \nTuesday-Friday 10 am & 3 pm \nSaturday 10 am
URL:https://pearlsbuck.org/event/festival-of-trees-3/2024-12-26/
LOCATION:PA
CATEGORIES:Holiday,House Tour,Signature Events
ATTACH;FMTTYPE=image/jpeg:https://pearlsbuck.org/wp-content/uploads/2023/01/1116221849c-scaled.jpg
END:VEVENT
BEGIN:VEVENT
DTSTART;TZID=America/New_York:20241227T110000
DTEND;TZID=America/New_York:20241227T160000
DTSTAMP:20260422T015606
CREATED:20241210T181944Z
LAST-MODIFIED:20241210T181944Z
UID:10001445-1735297200-1735315200@pearlsbuck.org
SUMMARY:Festival of Trees
DESCRIPTION:Each year during the Annual Festival of Trees\, the rooms of Pearl S. Buck’s iconic Bucks County stone farmhouse come alive with the glow of holiday decorations. The event showcases beautiful trees and vignettes designed by Bucks County’s best artists\, decorators\, and local community groups to convey the spirit of Pearl S. Buck’s legacy as an author\, humanitarian\, and activist. Visitors have the opportunity to vote for their favorite display. Festival of Trees remains one of the most unique and historic holiday traditions in the region. \nFestival of Trees Life & Legacy Tour \nTuesday-Saturday 11 am\, 1 pm\, and 2 pm \nSunday 1 pm & 2 pm \nFestival of Trees Decor Tour (no historical interpretation) \nTuesday-Friday 10 am & 3 pm \nSaturday 10 am
URL:https://pearlsbuck.org/event/festival-of-trees-3/2024-12-27/
LOCATION:PA
CATEGORIES:Holiday,House Tour,Signature Events
ATTACH;FMTTYPE=image/jpeg:https://pearlsbuck.org/wp-content/uploads/2023/01/1116221849c-scaled.jpg
END:VEVENT
BEGIN:VEVENT
DTSTART;TZID=America/New_York:20241228T110000
DTEND;TZID=America/New_York:20241228T160000
DTSTAMP:20260422T015606
CREATED:20241210T181944Z
LAST-MODIFIED:20241210T181944Z
UID:10001446-1735383600-1735401600@pearlsbuck.org
SUMMARY:Festival of Trees
DESCRIPTION:Each year during the Annual Festival of Trees\, the rooms of Pearl S. Buck’s iconic Bucks County stone farmhouse come alive with the glow of holiday decorations. The event showcases beautiful trees and vignettes designed by Bucks County’s best artists\, decorators\, and local community groups to convey the spirit of Pearl S. Buck’s legacy as an author\, humanitarian\, and activist. Visitors have the opportunity to vote for their favorite display. Festival of Trees remains one of the most unique and historic holiday traditions in the region. \nFestival of Trees Life & Legacy Tour \nTuesday-Saturday 11 am\, 1 pm\, and 2 pm \nSunday 1 pm & 2 pm \nFestival of Trees Decor Tour (no historical interpretation) \nTuesday-Friday 10 am & 3 pm \nSaturday 10 am
URL:https://pearlsbuck.org/event/festival-of-trees-3/2024-12-28/
LOCATION:PA
CATEGORIES:Holiday,House Tour,Signature Events
ATTACH;FMTTYPE=image/jpeg:https://pearlsbuck.org/wp-content/uploads/2023/01/1116221849c-scaled.jpg
END:VEVENT
BEGIN:VEVENT
DTSTART;TZID=America/New_York:20241229T110000
DTEND;TZID=America/New_York:20241229T160000
DTSTAMP:20260422T015606
CREATED:20241210T181944Z
LAST-MODIFIED:20241210T181944Z
UID:10001447-1735470000-1735488000@pearlsbuck.org
SUMMARY:Festival of Trees
DESCRIPTION:Each year during the Annual Festival of Trees\, the rooms of Pearl S. Buck’s iconic Bucks County stone farmhouse come alive with the glow of holiday decorations. The event showcases beautiful trees and vignettes designed by Bucks County’s best artists\, decorators\, and local community groups to convey the spirit of Pearl S. Buck’s legacy as an author\, humanitarian\, and activist. Visitors have the opportunity to vote for their favorite display. Festival of Trees remains one of the most unique and historic holiday traditions in the region. \nFestival of Trees Life & Legacy Tour \nTuesday-Saturday 11 am\, 1 pm\, and 2 pm \nSunday 1 pm & 2 pm \nFestival of Trees Decor Tour (no historical interpretation) \nTuesday-Friday 10 am & 3 pm \nSaturday 10 am
URL:https://pearlsbuck.org/event/festival-of-trees-3/2024-12-29/
LOCATION:PA
CATEGORIES:Holiday,House Tour,Signature Events
ATTACH;FMTTYPE=image/jpeg:https://pearlsbuck.org/wp-content/uploads/2023/01/1116221849c-scaled.jpg
END:VEVENT
BEGIN:VEVENT
DTSTART;TZID=America/New_York:20241231T110000
DTEND;TZID=America/New_York:20241231T160000
DTSTAMP:20260422T015606
CREATED:20241210T181944Z
LAST-MODIFIED:20241210T181944Z
UID:10001448-1735642800-1735660800@pearlsbuck.org
SUMMARY:Festival of Trees
DESCRIPTION:Each year during the Annual Festival of Trees\, the rooms of Pearl S. Buck’s iconic Bucks County stone farmhouse come alive with the glow of holiday decorations. The event showcases beautiful trees and vignettes designed by Bucks County’s best artists\, decorators\, and local community groups to convey the spirit of Pearl S. Buck’s legacy as an author\, humanitarian\, and activist. Visitors have the opportunity to vote for their favorite display. Festival of Trees remains one of the most unique and historic holiday traditions in the region. \nFestival of Trees Life & Legacy Tour \nTuesday-Saturday 11 am\, 1 pm\, and 2 pm \nSunday 1 pm & 2 pm \nFestival of Trees Decor Tour (no historical interpretation) \nTuesday-Friday 10 am & 3 pm \nSaturday 10 am
URL:https://pearlsbuck.org/event/festival-of-trees-3/2024-12-31/
LOCATION:PA
CATEGORIES:Holiday,House Tour,Signature Events
ATTACH;FMTTYPE=image/jpeg:https://pearlsbuck.org/wp-content/uploads/2023/01/1116221849c-scaled.jpg
END:VEVENT
END:VCALENDAR