BEGIN:VCALENDAR
VERSION:2.0
PRODID:-//Pearl S. Buck International - ECPv6.15.20//NONSGML v1.0//EN
CALSCALE:GREGORIAN
METHOD:PUBLISH
X-WR-CALNAME:Pearl S. Buck International
X-ORIGINAL-URL:https://pearlsbuck.org
X-WR-CALDESC:Events for Pearl S. Buck International
REFRESH-INTERVAL;VALUE=DURATION:PT1H
X-Robots-Tag:noindex
X-PUBLISHED-TTL:PT1H
BEGIN:VTIMEZONE
TZID:America/New_York
BEGIN:DAYLIGHT
TZOFFSETFROM:-0500
TZOFFSETTO:-0400
TZNAME:EDT
DTSTART:20240310T070000
END:DAYLIGHT
BEGIN:STANDARD
TZOFFSETFROM:-0400
TZOFFSETTO:-0500
TZNAME:EST
DTSTART:20241103T060000
END:STANDARD
BEGIN:DAYLIGHT
TZOFFSETFROM:-0500
TZOFFSETTO:-0400
TZNAME:EDT
DTSTART:20250309T070000
END:DAYLIGHT
BEGIN:STANDARD
TZOFFSETFROM:-0400
TZOFFSETTO:-0500
TZNAME:EST
DTSTART:20251102T060000
END:STANDARD
BEGIN:DAYLIGHT
TZOFFSETFROM:-0500
TZOFFSETTO:-0400
TZNAME:EDT
DTSTART:20260308T070000
END:DAYLIGHT
BEGIN:STANDARD
TZOFFSETFROM:-0400
TZOFFSETTO:-0500
TZNAME:EST
DTSTART:20261101T060000
END:STANDARD
END:VTIMEZONE
BEGIN:VEVENT
DTSTART;TZID=America/New_York:20250101T110000
DTEND;TZID=America/New_York:20250101T160000
DTSTAMP:20260422T002052
CREATED:20241210T181944Z
LAST-MODIFIED:20241210T181944Z
UID:10001449-1735729200-1735747200@pearlsbuck.org
SUMMARY:Festival of Trees
DESCRIPTION:Each year during the Annual Festival of Trees\, the rooms of Pearl S. Buck’s iconic Bucks County stone farmhouse come alive with the glow of holiday decorations. The event showcases beautiful trees and vignettes designed by Bucks County’s best artists\, decorators\, and local community groups to convey the spirit of Pearl S. Buck’s legacy as an author\, humanitarian\, and activist. Visitors have the opportunity to vote for their favorite display. Festival of Trees remains one of the most unique and historic holiday traditions in the region. \nFestival of Trees Life & Legacy Tour \nTuesday-Saturday 11 am\, 1 pm\, and 2 pm \nSunday 1 pm & 2 pm \nFestival of Trees Decor Tour (no historical interpretation) \nTuesday-Friday 10 am & 3 pm \nSaturday 10 am
URL:https://pearlsbuck.org/event/festival-of-trees-3/2025-01-01/
LOCATION:PA
CATEGORIES:Holiday,House Tour,Signature Events
ATTACH;FMTTYPE=image/jpeg:https://pearlsbuck.org/wp-content/uploads/2023/01/1116221849c-scaled.jpg
END:VEVENT
BEGIN:VEVENT
DTSTART;TZID=America/New_York:20250102T110000
DTEND;TZID=America/New_York:20250102T160000
DTSTAMP:20260422T002052
CREATED:20241210T181944Z
LAST-MODIFIED:20241210T181944Z
UID:10001450-1735815600-1735833600@pearlsbuck.org
SUMMARY:Festival of Trees
DESCRIPTION:Each year during the Annual Festival of Trees\, the rooms of Pearl S. Buck’s iconic Bucks County stone farmhouse come alive with the glow of holiday decorations. The event showcases beautiful trees and vignettes designed by Bucks County’s best artists\, decorators\, and local community groups to convey the spirit of Pearl S. Buck’s legacy as an author\, humanitarian\, and activist. Visitors have the opportunity to vote for their favorite display. Festival of Trees remains one of the most unique and historic holiday traditions in the region. \nFestival of Trees Life & Legacy Tour \nTuesday-Saturday 11 am\, 1 pm\, and 2 pm \nSunday 1 pm & 2 pm \nFestival of Trees Decor Tour (no historical interpretation) \nTuesday-Friday 10 am & 3 pm \nSaturday 10 am
URL:https://pearlsbuck.org/event/festival-of-trees-3/2025-01-02/
LOCATION:PA
CATEGORIES:Holiday,House Tour,Signature Events
ATTACH;FMTTYPE=image/jpeg:https://pearlsbuck.org/wp-content/uploads/2023/01/1116221849c-scaled.jpg
END:VEVENT
BEGIN:VEVENT
DTSTART;TZID=America/New_York:20250103T110000
DTEND;TZID=America/New_York:20250103T160000
DTSTAMP:20260422T002052
CREATED:20241210T181944Z
LAST-MODIFIED:20241210T181944Z
UID:10001451-1735902000-1735920000@pearlsbuck.org
SUMMARY:Festival of Trees
DESCRIPTION:Each year during the Annual Festival of Trees\, the rooms of Pearl S. Buck’s iconic Bucks County stone farmhouse come alive with the glow of holiday decorations. The event showcases beautiful trees and vignettes designed by Bucks County’s best artists\, decorators\, and local community groups to convey the spirit of Pearl S. Buck’s legacy as an author\, humanitarian\, and activist. Visitors have the opportunity to vote for their favorite display. Festival of Trees remains one of the most unique and historic holiday traditions in the region. \nFestival of Trees Life & Legacy Tour \nTuesday-Saturday 11 am\, 1 pm\, and 2 pm \nSunday 1 pm & 2 pm \nFestival of Trees Decor Tour (no historical interpretation) \nTuesday-Friday 10 am & 3 pm \nSaturday 10 am
URL:https://pearlsbuck.org/event/festival-of-trees-3/2025-01-03/
LOCATION:PA
CATEGORIES:Holiday,House Tour,Signature Events
ATTACH;FMTTYPE=image/jpeg:https://pearlsbuck.org/wp-content/uploads/2023/01/1116221849c-scaled.jpg
END:VEVENT
BEGIN:VEVENT
DTSTART;TZID=America/New_York:20250104T110000
DTEND;TZID=America/New_York:20250104T160000
DTSTAMP:20260422T002052
CREATED:20241210T181944Z
LAST-MODIFIED:20241210T181944Z
UID:10001452-1735988400-1736006400@pearlsbuck.org
SUMMARY:Festival of Trees
DESCRIPTION:Each year during the Annual Festival of Trees\, the rooms of Pearl S. Buck’s iconic Bucks County stone farmhouse come alive with the glow of holiday decorations. The event showcases beautiful trees and vignettes designed by Bucks County’s best artists\, decorators\, and local community groups to convey the spirit of Pearl S. Buck’s legacy as an author\, humanitarian\, and activist. Visitors have the opportunity to vote for their favorite display. Festival of Trees remains one of the most unique and historic holiday traditions in the region. \nFestival of Trees Life & Legacy Tour \nTuesday-Saturday 11 am\, 1 pm\, and 2 pm \nSunday 1 pm & 2 pm \nFestival of Trees Decor Tour (no historical interpretation) \nTuesday-Friday 10 am & 3 pm \nSaturday 10 am
URL:https://pearlsbuck.org/event/festival-of-trees-3/2025-01-04/
LOCATION:PA
CATEGORIES:Holiday,House Tour,Signature Events
ATTACH;FMTTYPE=image/jpeg:https://pearlsbuck.org/wp-content/uploads/2023/01/1116221849c-scaled.jpg
END:VEVENT
END:VCALENDAR