BEGIN:VCALENDAR
VERSION:2.0
PRODID:-//Pearl S. Buck International - ECPv6.15.20//NONSGML v1.0//EN
CALSCALE:GREGORIAN
METHOD:PUBLISH
X-ORIGINAL-URL:https://pearlsbuck.org
X-WR-CALDESC:Events for Pearl S. Buck International
REFRESH-INTERVAL;VALUE=DURATION:PT1H
X-Robots-Tag:noindex
X-PUBLISHED-TTL:PT1H
BEGIN:VTIMEZONE
TZID:America/New_York
BEGIN:DAYLIGHT
TZOFFSETFROM:-0500
TZOFFSETTO:-0400
TZNAME:EDT
DTSTART:20240310T070000
END:DAYLIGHT
BEGIN:STANDARD
TZOFFSETFROM:-0400
TZOFFSETTO:-0500
TZNAME:EST
DTSTART:20241103T060000
END:STANDARD
BEGIN:DAYLIGHT
TZOFFSETFROM:-0500
TZOFFSETTO:-0400
TZNAME:EDT
DTSTART:20250309T070000
END:DAYLIGHT
BEGIN:STANDARD
TZOFFSETFROM:-0400
TZOFFSETTO:-0500
TZNAME:EST
DTSTART:20251102T060000
END:STANDARD
BEGIN:DAYLIGHT
TZOFFSETFROM:-0500
TZOFFSETTO:-0400
TZNAME:EDT
DTSTART:20260308T070000
END:DAYLIGHT
BEGIN:STANDARD
TZOFFSETFROM:-0400
TZOFFSETTO:-0500
TZNAME:EST
DTSTART:20261101T060000
END:STANDARD
END:VTIMEZONE
BEGIN:VEVENT
DTSTART;TZID=America/New_York:20250208T110000
DTEND;TZID=America/New_York:20250208T140000
DTSTAMP:20260421T224439
CREATED:20241202T152143Z
LAST-MODIFIED:20250106T133131Z
UID:10001430-1739012400-1739023200@pearlsbuck.org
SUMMARY:Lunar New Year
DESCRIPTION:Join Pearl S. Buck International and the Central Bucks Chinese-American Association for this family friendly event with food\, games\, live musical and dance performances\, kids’ activities\, and more as we usher in the Year of the Snake.
URL:https://pearlsbuck.org/event/lunar-new-year/
LOCATION:Pearl S Buck International\, 520 Dublin Road\, Perkasie\, PA
CATEGORIES:Intercultural Programs,Special Events
ATTACH;FMTTYPE=image/png:https://pearlsbuck.org/wp-content/uploads/2024/12/Lunar-New-Year-Celebration1.png
END:VEVENT
END:VCALENDAR