BEGIN:VCALENDAR
VERSION:2.0
PRODID:-//Pearl S. Buck International - ECPv6.15.20//NONSGML v1.0//EN
CALSCALE:GREGORIAN
METHOD:PUBLISH
X-ORIGINAL-URL:https://pearlsbuck.org
X-WR-CALDESC:Events for Pearl S. Buck International
REFRESH-INTERVAL;VALUE=DURATION:PT1H
X-Robots-Tag:noindex
X-PUBLISHED-TTL:PT1H
BEGIN:VTIMEZONE
TZID:America/New_York
BEGIN:DAYLIGHT
TZOFFSETFROM:-0500
TZOFFSETTO:-0400
TZNAME:EDT
DTSTART:20240310T070000
END:DAYLIGHT
BEGIN:STANDARD
TZOFFSETFROM:-0400
TZOFFSETTO:-0500
TZNAME:EST
DTSTART:20241103T060000
END:STANDARD
BEGIN:DAYLIGHT
TZOFFSETFROM:-0500
TZOFFSETTO:-0400
TZNAME:EDT
DTSTART:20250309T070000
END:DAYLIGHT
BEGIN:STANDARD
TZOFFSETFROM:-0400
TZOFFSETTO:-0500
TZNAME:EST
DTSTART:20251102T060000
END:STANDARD
BEGIN:DAYLIGHT
TZOFFSETFROM:-0500
TZOFFSETTO:-0400
TZNAME:EDT
DTSTART:20260308T070000
END:DAYLIGHT
BEGIN:STANDARD
TZOFFSETFROM:-0400
TZOFFSETTO:-0500
TZNAME:EST
DTSTART:20261101T060000
END:STANDARD
END:VTIMEZONE
BEGIN:VEVENT
DTSTART;TZID=America/New_York:20250417T130000
DTEND;TZID=America/New_York:20250417T150000
DTSTAMP:20260421T192917
CREATED:20250211T183616Z
LAST-MODIFIED:20250624T154141Z
UID:10001465-1744894800-1744902000@pearlsbuck.org
SUMMARY:Volunteer Orientation
DESCRIPTION:Volunteers at Pearl S. Buck International play a vital role in sharing the history of Pearl S. Buck and her National Historic Landmark house\, organizing community events\, and raising funds for the organization. \nVolunteers fulfill this role by serving in various capacities. Docents and facilitators lead guided tours of the Pearl S. Buck House\, while clerks staff the International Gift Shop\, and office assistants help the staff of Pearl S. Buck International with office needs. There are also event organizer volunteers for the Juried Craft Show and Community Holiday Open House. To learn how you can become a volunteer at Pearl S. Buck International\, please reserve your spot and attend one of the volunteer orientations. Visit: https://pearlsbuck.org/support-us/volunteer/ 
URL:https://pearlsbuck.org/event/volunteer-orientation-5/2025-04-17/
LOCATION:Pearl S Buck International\, 520 Dublin Road\, Perkasie\, PA
CATEGORIES:Volunteers
ATTACH;FMTTYPE=image/jpeg:https://pearlsbuck.org/wp-content/uploads/2021/06/volunteers.jpg
END:VEVENT
BEGIN:VEVENT
DTSTART;TZID=America/New_York:20250427T120000
DTEND;TZID=America/New_York:20250427T160000
DTSTAMP:20260421T192918
CREATED:20250305T153144Z
LAST-MODIFIED:20250401T145858Z
UID:10001471-1745755200-1745769600@pearlsbuck.org
SUMMARY:Designer Bag Bingo
DESCRIPTION:Pearl S. Buck Volunteer Association presents Designer Bag Bingo\nJoin Us for An Afternoon of Fun!\n\n10 Regular Game Cards (3 Games Each)\n2 Special Games\nJackpot Game\nRaffle Baskets\n50/50 Drawing\nA “Gently Used” Designer Bag Auction\n\nTickets On Sale Now! $35 in advance\, $40 at the door \nDesigner Bag Bingo \n\n\nAll attendees must purchase a ticket\nBring your own food & beverages\nAll players must be 18+ years of age to participate in raffles & 50/50\nAny child under 18 who attends must be accompanied by an adult
URL:https://pearlsbuck.org/event/designer-bag-bingo-2/
LOCATION:Pearl S Buck International\, 520 Dublin Road\, Perkasie\, PA
CATEGORIES:Special Events,Volunteers
ATTACH;FMTTYPE=image/jpeg:https://pearlsbuck.org/wp-content/uploads/2021/08/designer-bag-bingo.jpg
END:VEVENT
END:VCALENDAR