BEGIN:VCALENDAR
VERSION:2.0
PRODID:-//Pearl S. Buck International - ECPv6.15.20//NONSGML v1.0//EN
CALSCALE:GREGORIAN
METHOD:PUBLISH
X-ORIGINAL-URL:https://pearlsbuck.org
X-WR-CALDESC:Events for Pearl S. Buck International
REFRESH-INTERVAL;VALUE=DURATION:PT1H
X-Robots-Tag:noindex
X-PUBLISHED-TTL:PT1H
BEGIN:VTIMEZONE
TZID:America/New_York
BEGIN:DAYLIGHT
TZOFFSETFROM:-0500
TZOFFSETTO:-0400
TZNAME:EDT
DTSTART:20240310T070000
END:DAYLIGHT
BEGIN:STANDARD
TZOFFSETFROM:-0400
TZOFFSETTO:-0500
TZNAME:EST
DTSTART:20241103T060000
END:STANDARD
BEGIN:DAYLIGHT
TZOFFSETFROM:-0500
TZOFFSETTO:-0400
TZNAME:EDT
DTSTART:20250309T070000
END:DAYLIGHT
BEGIN:STANDARD
TZOFFSETFROM:-0400
TZOFFSETTO:-0500
TZNAME:EST
DTSTART:20251102T060000
END:STANDARD
BEGIN:DAYLIGHT
TZOFFSETFROM:-0500
TZOFFSETTO:-0400
TZNAME:EDT
DTSTART:20260308T070000
END:DAYLIGHT
BEGIN:STANDARD
TZOFFSETFROM:-0400
TZOFFSETTO:-0500
TZNAME:EST
DTSTART:20261101T060000
END:STANDARD
END:VTIMEZONE
BEGIN:VEVENT
DTSTART;TZID=America/New_York:20250710T150000
DTEND;TZID=America/New_York:20250710T170000
DTSTAMP:20260421T180530
CREATED:20250321T174439Z
LAST-MODIFIED:20250624T152925Z
UID:10001474-1752159600-1752166800@pearlsbuck.org
SUMMARY:Pearl and Petals Curator-Led House Museum Tour
DESCRIPTION:Join our curator for a tour of the Pearl S. Buck House with special insights into the Pearl and Petals exhibition. The tour will also include an outdoor portion to visit our greenhouses and other parts of our grounds (weather pending). \nThe ticket includes a tour of the house\, the exhibit\, and the grounds with the curator. Limited dates are available!
URL:https://pearlsbuck.org/event/pearl-and-petals-curator-led-house-museum-tour/2025-07-10/
LOCATION:Pearl S. Buck House\, 520 Dublin Road\, Perkasie\, PA\, 18944\, United States
CATEGORIES:House Tour,Special Events
ATTACH;FMTTYPE=image/jpeg:https://pearlsbuck.org/wp-content/uploads/2025/03/Copy-of-Ticket-Banner.jpg
END:VEVENT
BEGIN:VEVENT
DTSTART;TZID=America/New_York:20250717T130000
DTEND;TZID=America/New_York:20250717T150000
DTSTAMP:20260421T180530
CREATED:20250211T183616Z
LAST-MODIFIED:20250624T154141Z
UID:10001467-1752757200-1752764400@pearlsbuck.org
SUMMARY:Volunteer Orientation
DESCRIPTION:Volunteers at Pearl S. Buck International play a vital role in sharing the history of Pearl S. Buck and her National Historic Landmark house\, organizing community events\, and raising funds for the organization. \nVolunteers fulfill this role by serving in various capacities. Docents and facilitators lead guided tours of the Pearl S. Buck House\, while clerks staff the International Gift Shop\, and office assistants help the staff of Pearl S. Buck International with office needs. There are also event organizer volunteers for the Juried Craft Show and Community Holiday Open House. To learn how you can become a volunteer at Pearl S. Buck International\, please reserve your spot and attend one of the volunteer orientations. Visit: https://pearlsbuck.org/support-us/volunteer/ 
URL:https://pearlsbuck.org/event/volunteer-orientation-5/2025-07-17/
LOCATION:Pearl S Buck International\, 520 Dublin Road\, Perkasie\, PA
CATEGORIES:Volunteers
ATTACH;FMTTYPE=image/jpeg:https://pearlsbuck.org/wp-content/uploads/2021/06/volunteers.jpg
END:VEVENT
BEGIN:VEVENT
DTSTART;TZID=America/New_York:20250721T083000
DTEND;TZID=America/New_York:20250721T153000
DTSTAMP:20260421T180530
CREATED:20250211T183248Z
LAST-MODIFIED:20250211T183248Z
UID:10001454-1753086600-1753111800@pearlsbuck.org
SUMMARY:High School Global Leadership Program
DESCRIPTION:The Global Leadership Program\, for high school students from grades 9 through 11\, is designed to help teens and young adults become better students\, college applicants\, and global citizens. Participants put their newly acquired skills to use working collaboratively on a service project of their choice\, with proceeds donated toward Pearl S. Buck International’s mission and work. \nThe cost of this program includes two weeks of instruction by a PA state certified teacher\, supplies\, daytime snacks for students\, and a graduation event.
URL:https://pearlsbuck.org/event/high-school-global-leadership-program/2025-07-21/
LOCATION:Pearl S Buck International\, 520 Dublin Road\, Perkasie\, PA
CATEGORIES:Intercultural Programs
ATTACH;FMTTYPE=image/jpeg:https://pearlsbuck.org/wp-content/uploads/2023/07/d_33b1c8_f_8e7Ud018svc1e6mmptmiun7l_cynhs7.jpg
END:VEVENT
BEGIN:VEVENT
DTSTART;TZID=America/New_York:20250722T083000
DTEND;TZID=America/New_York:20250722T153000
DTSTAMP:20260421T180530
CREATED:20250211T183248Z
LAST-MODIFIED:20250211T183248Z
UID:10001455-1753173000-1753198200@pearlsbuck.org
SUMMARY:High School Global Leadership Program
DESCRIPTION:The Global Leadership Program\, for high school students from grades 9 through 11\, is designed to help teens and young adults become better students\, college applicants\, and global citizens. Participants put their newly acquired skills to use working collaboratively on a service project of their choice\, with proceeds donated toward Pearl S. Buck International’s mission and work. \nThe cost of this program includes two weeks of instruction by a PA state certified teacher\, supplies\, daytime snacks for students\, and a graduation event.
URL:https://pearlsbuck.org/event/high-school-global-leadership-program/2025-07-22/
LOCATION:Pearl S Buck International\, 520 Dublin Road\, Perkasie\, PA
CATEGORIES:Intercultural Programs
ATTACH;FMTTYPE=image/jpeg:https://pearlsbuck.org/wp-content/uploads/2023/07/d_33b1c8_f_8e7Ud018svc1e6mmptmiun7l_cynhs7.jpg
END:VEVENT
BEGIN:VEVENT
DTSTART;TZID=America/New_York:20250723T083000
DTEND;TZID=America/New_York:20250723T153000
DTSTAMP:20260421T180530
CREATED:20250211T183248Z
LAST-MODIFIED:20250211T183248Z
UID:10001456-1753259400-1753284600@pearlsbuck.org
SUMMARY:High School Global Leadership Program
DESCRIPTION:The Global Leadership Program\, for high school students from grades 9 through 11\, is designed to help teens and young adults become better students\, college applicants\, and global citizens. Participants put their newly acquired skills to use working collaboratively on a service project of their choice\, with proceeds donated toward Pearl S. Buck International’s mission and work. \nThe cost of this program includes two weeks of instruction by a PA state certified teacher\, supplies\, daytime snacks for students\, and a graduation event.
URL:https://pearlsbuck.org/event/high-school-global-leadership-program/2025-07-23/
LOCATION:Pearl S Buck International\, 520 Dublin Road\, Perkasie\, PA
CATEGORIES:Intercultural Programs
ATTACH;FMTTYPE=image/jpeg:https://pearlsbuck.org/wp-content/uploads/2023/07/d_33b1c8_f_8e7Ud018svc1e6mmptmiun7l_cynhs7.jpg
END:VEVENT
BEGIN:VEVENT
DTSTART;TZID=America/New_York:20250724T083000
DTEND;TZID=America/New_York:20250724T153000
DTSTAMP:20260421T180530
CREATED:20250211T183248Z
LAST-MODIFIED:20250211T183248Z
UID:10001457-1753345800-1753371000@pearlsbuck.org
SUMMARY:High School Global Leadership Program
DESCRIPTION:The Global Leadership Program\, for high school students from grades 9 through 11\, is designed to help teens and young adults become better students\, college applicants\, and global citizens. Participants put their newly acquired skills to use working collaboratively on a service project of their choice\, with proceeds donated toward Pearl S. Buck International’s mission and work. \nThe cost of this program includes two weeks of instruction by a PA state certified teacher\, supplies\, daytime snacks for students\, and a graduation event.
URL:https://pearlsbuck.org/event/high-school-global-leadership-program/2025-07-24/
LOCATION:Pearl S Buck International\, 520 Dublin Road\, Perkasie\, PA
CATEGORIES:Intercultural Programs
ATTACH;FMTTYPE=image/jpeg:https://pearlsbuck.org/wp-content/uploads/2023/07/d_33b1c8_f_8e7Ud018svc1e6mmptmiun7l_cynhs7.jpg
END:VEVENT
BEGIN:VEVENT
DTSTART;TZID=America/New_York:20250725T083000
DTEND;TZID=America/New_York:20250725T153000
DTSTAMP:20260421T180530
CREATED:20250211T183248Z
LAST-MODIFIED:20250211T183248Z
UID:10001458-1753432200-1753457400@pearlsbuck.org
SUMMARY:High School Global Leadership Program
DESCRIPTION:The Global Leadership Program\, for high school students from grades 9 through 11\, is designed to help teens and young adults become better students\, college applicants\, and global citizens. Participants put their newly acquired skills to use working collaboratively on a service project of their choice\, with proceeds donated toward Pearl S. Buck International’s mission and work. \nThe cost of this program includes two weeks of instruction by a PA state certified teacher\, supplies\, daytime snacks for students\, and a graduation event.
URL:https://pearlsbuck.org/event/high-school-global-leadership-program/2025-07-25/
LOCATION:Pearl S Buck International\, 520 Dublin Road\, Perkasie\, PA
CATEGORIES:Intercultural Programs
ATTACH;FMTTYPE=image/jpeg:https://pearlsbuck.org/wp-content/uploads/2023/07/d_33b1c8_f_8e7Ud018svc1e6mmptmiun7l_cynhs7.jpg
END:VEVENT
BEGIN:VEVENT
DTSTART;TZID=America/New_York:20250728T083000
DTEND;TZID=America/New_York:20250728T153000
DTSTAMP:20260421T180530
CREATED:20250211T183248Z
LAST-MODIFIED:20250211T183248Z
UID:10001459-1753691400-1753716600@pearlsbuck.org
SUMMARY:High School Global Leadership Program
DESCRIPTION:The Global Leadership Program\, for high school students from grades 9 through 11\, is designed to help teens and young adults become better students\, college applicants\, and global citizens. Participants put their newly acquired skills to use working collaboratively on a service project of their choice\, with proceeds donated toward Pearl S. Buck International’s mission and work. \nThe cost of this program includes two weeks of instruction by a PA state certified teacher\, supplies\, daytime snacks for students\, and a graduation event.
URL:https://pearlsbuck.org/event/high-school-global-leadership-program/2025-07-28/
LOCATION:Pearl S Buck International\, 520 Dublin Road\, Perkasie\, PA
CATEGORIES:Intercultural Programs
ATTACH;FMTTYPE=image/jpeg:https://pearlsbuck.org/wp-content/uploads/2023/07/d_33b1c8_f_8e7Ud018svc1e6mmptmiun7l_cynhs7.jpg
END:VEVENT
BEGIN:VEVENT
DTSTART;TZID=America/New_York:20250729T083000
DTEND;TZID=America/New_York:20250729T153000
DTSTAMP:20260421T180530
CREATED:20250211T183248Z
LAST-MODIFIED:20250211T183248Z
UID:10001460-1753777800-1753803000@pearlsbuck.org
SUMMARY:High School Global Leadership Program
DESCRIPTION:The Global Leadership Program\, for high school students from grades 9 through 11\, is designed to help teens and young adults become better students\, college applicants\, and global citizens. Participants put their newly acquired skills to use working collaboratively on a service project of their choice\, with proceeds donated toward Pearl S. Buck International’s mission and work. \nThe cost of this program includes two weeks of instruction by a PA state certified teacher\, supplies\, daytime snacks for students\, and a graduation event.
URL:https://pearlsbuck.org/event/high-school-global-leadership-program/2025-07-29/
LOCATION:Pearl S Buck International\, 520 Dublin Road\, Perkasie\, PA
CATEGORIES:Intercultural Programs
ATTACH;FMTTYPE=image/jpeg:https://pearlsbuck.org/wp-content/uploads/2023/07/d_33b1c8_f_8e7Ud018svc1e6mmptmiun7l_cynhs7.jpg
END:VEVENT
BEGIN:VEVENT
DTSTART;TZID=America/New_York:20250730T083000
DTEND;TZID=America/New_York:20250730T153000
DTSTAMP:20260421T180530
CREATED:20250211T183248Z
LAST-MODIFIED:20250211T183248Z
UID:10001461-1753864200-1753889400@pearlsbuck.org
SUMMARY:High School Global Leadership Program
DESCRIPTION:The Global Leadership Program\, for high school students from grades 9 through 11\, is designed to help teens and young adults become better students\, college applicants\, and global citizens. Participants put their newly acquired skills to use working collaboratively on a service project of their choice\, with proceeds donated toward Pearl S. Buck International’s mission and work. \nThe cost of this program includes two weeks of instruction by a PA state certified teacher\, supplies\, daytime snacks for students\, and a graduation event.
URL:https://pearlsbuck.org/event/high-school-global-leadership-program/2025-07-30/
LOCATION:Pearl S Buck International\, 520 Dublin Road\, Perkasie\, PA
CATEGORIES:Intercultural Programs
ATTACH;FMTTYPE=image/jpeg:https://pearlsbuck.org/wp-content/uploads/2023/07/d_33b1c8_f_8e7Ud018svc1e6mmptmiun7l_cynhs7.jpg
END:VEVENT
BEGIN:VEVENT
DTSTART;TZID=America/New_York:20250731T083000
DTEND;TZID=America/New_York:20250731T153000
DTSTAMP:20260421T180530
CREATED:20250211T183248Z
LAST-MODIFIED:20250211T183248Z
UID:10001462-1753950600-1753975800@pearlsbuck.org
SUMMARY:High School Global Leadership Program
DESCRIPTION:The Global Leadership Program\, for high school students from grades 9 through 11\, is designed to help teens and young adults become better students\, college applicants\, and global citizens. Participants put their newly acquired skills to use working collaboratively on a service project of their choice\, with proceeds donated toward Pearl S. Buck International’s mission and work. \nThe cost of this program includes two weeks of instruction by a PA state certified teacher\, supplies\, daytime snacks for students\, and a graduation event.
URL:https://pearlsbuck.org/event/high-school-global-leadership-program/2025-07-31/
LOCATION:Pearl S Buck International\, 520 Dublin Road\, Perkasie\, PA
CATEGORIES:Intercultural Programs
ATTACH;FMTTYPE=image/jpeg:https://pearlsbuck.org/wp-content/uploads/2023/07/d_33b1c8_f_8e7Ud018svc1e6mmptmiun7l_cynhs7.jpg
END:VEVENT
END:VCALENDAR