BEGIN:VCALENDAR
VERSION:2.0
PRODID:-//Pearl S. Buck International - ECPv6.15.20//NONSGML v1.0//EN
CALSCALE:GREGORIAN
METHOD:PUBLISH
X-WR-CALNAME:Pearl S. Buck International
X-ORIGINAL-URL:https://pearlsbuck.org
X-WR-CALDESC:Events for Pearl S. Buck International
REFRESH-INTERVAL;VALUE=DURATION:PT1H
X-Robots-Tag:noindex
X-PUBLISHED-TTL:PT1H
BEGIN:VTIMEZONE
TZID:America/New_York
BEGIN:DAYLIGHT
TZOFFSETFROM:-0500
TZOFFSETTO:-0400
TZNAME:EDT
DTSTART:20240310T070000
END:DAYLIGHT
BEGIN:STANDARD
TZOFFSETFROM:-0400
TZOFFSETTO:-0500
TZNAME:EST
DTSTART:20241103T060000
END:STANDARD
BEGIN:DAYLIGHT
TZOFFSETFROM:-0500
TZOFFSETTO:-0400
TZNAME:EDT
DTSTART:20250309T070000
END:DAYLIGHT
BEGIN:STANDARD
TZOFFSETFROM:-0400
TZOFFSETTO:-0500
TZNAME:EST
DTSTART:20251102T060000
END:STANDARD
BEGIN:DAYLIGHT
TZOFFSETFROM:-0500
TZOFFSETTO:-0400
TZNAME:EDT
DTSTART:20260308T070000
END:DAYLIGHT
BEGIN:STANDARD
TZOFFSETFROM:-0400
TZOFFSETTO:-0500
TZNAME:EST
DTSTART:20261101T060000
END:STANDARD
END:VTIMEZONE
BEGIN:VEVENT
DTSTART;TZID=America/New_York:20250801T083000
DTEND;TZID=America/New_York:20250801T153000
DTSTAMP:20260421T140737
CREATED:20250211T183248Z
LAST-MODIFIED:20250211T183248Z
UID:10001463-1754037000-1754062200@pearlsbuck.org
SUMMARY:High School Global Leadership Program
DESCRIPTION:The Global Leadership Program\, for high school students from grades 9 through 11\, is designed to help teens and young adults become better students\, college applicants\, and global citizens. Participants put their newly acquired skills to use working collaboratively on a service project of their choice\, with proceeds donated toward Pearl S. Buck International’s mission and work. \nThe cost of this program includes two weeks of instruction by a PA state certified teacher\, supplies\, daytime snacks for students\, and a graduation event.
URL:https://pearlsbuck.org/event/high-school-global-leadership-program/2025-08-01/
LOCATION:Pearl S Buck International\, 520 Dublin Road\, Perkasie\, PA
CATEGORIES:Intercultural Programs
ATTACH;FMTTYPE=image/jpeg:https://pearlsbuck.org/wp-content/uploads/2023/07/d_33b1c8_f_8e7Ud018svc1e6mmptmiun7l_cynhs7.jpg
END:VEVENT
BEGIN:VEVENT
DTSTART;TZID=America/New_York:20250801T160000
DTEND;TZID=America/New_York:20250801T200000
DTSTAMP:20260421T140737
CREATED:20250728T123757Z
LAST-MODIFIED:20250728T123757Z
UID:10001494-1754064000-1754078400@pearlsbuck.org
SUMMARY:Global Leadership Program Fundraiser - Kites for Kids
DESCRIPTION:Pearl S. Buck International’s High School Global Leadership Program will be hosting a “Kites for Kids” fundraiser on August 1 from 4 to 8 pm on the grounds of the Pearl S. Buck Estate. Bring your family and friends and join us for a fun evening of kite flying and decorating\, food\, raffles\, a bonfire\, and more! The first 25 kids who register are guaranteed a kite to fly and decorate. You are also welcome to bring your own kites from home! Proceeds from this fundraiser will support Pearl S. Buck International health programs and projects serving children living in orphanages in Vietnam.
URL:https://pearlsbuck.org/event/global-leadership-program-fundraiser-kites-for-kids/
LOCATION:Pearl S Buck International\, 520 Dublin Road\, Perkasie\, PA
CATEGORIES:Intercultural Programs,Special Events
ATTACH;FMTTYPE=image/jpeg:https://pearlsbuck.org/wp-content/uploads/2025/07/Screenshot-2025-07-28-073659.jpg
END:VEVENT
BEGIN:VEVENT
DTSTART;TZID=America/New_York:20250809T100000
DTEND;TZID=America/New_York:20250809T130000
DTSTAMP:20260421T140737
CREATED:20250728T123254Z
LAST-MODIFIED:20250728T123254Z
UID:10001493-1754733600-1754744400@pearlsbuck.org
SUMMARY:Girl Scout Gold Award Project — Calling Cultures: Echoes of the East
DESCRIPTION:Come experience and learn about the magnificent and diverse cultures across Asia through: \n\nA traditional dance class\nYoga\nOrigami\nBracelet making\nTinikling\nHenna\nKusama craft\n\nJoin us and also enjoy food and a photo booth. Your participation will support this Girl Scout Gold Award project as well as help provide food to the orphans served by Pearl S. Buck International in Vietnam.
URL:https://pearlsbuck.org/event/girl-scout-gold-award-project-calling-cultures-echoes-of-the-east/
LOCATION:Pearl S Buck International\, 520 Dublin Road\, Perkasie\, PA
CATEGORIES:Special Events
ATTACH;FMTTYPE=image/jpeg:https://pearlsbuck.org/wp-content/uploads/2025/07/Screenshot-2025-07-28-081827.jpg
END:VEVENT
BEGIN:VEVENT
DTSTART;TZID=America/New_York:20250814T150000
DTEND;TZID=America/New_York:20250814T170000
DTSTAMP:20260421T140737
CREATED:20250321T174439Z
LAST-MODIFIED:20250624T152925Z
UID:10001475-1755183600-1755190800@pearlsbuck.org
SUMMARY:Pearl and Petals Curator-Led House Museum Tour
DESCRIPTION:Join our curator for a tour of the Pearl S. Buck House with special insights into the Pearl and Petals exhibition. The tour will also include an outdoor portion to visit our greenhouses and other parts of our grounds (weather pending). \nThe ticket includes a tour of the house\, the exhibit\, and the grounds with the curator. Limited dates are available!
URL:https://pearlsbuck.org/event/pearl-and-petals-curator-led-house-museum-tour/2025-08-14/
LOCATION:Pearl S. Buck House\, 520 Dublin Road\, Perkasie\, PA\, 18944\, United States
CATEGORIES:House Tour,Special Events
ATTACH;FMTTYPE=image/jpeg:https://pearlsbuck.org/wp-content/uploads/2025/03/Copy-of-Ticket-Banner.jpg
END:VEVENT
BEGIN:VEVENT
DTSTART;TZID=America/New_York:20250821T130000
DTEND;TZID=America/New_York:20250821T150000
DTSTAMP:20260421T140737
CREATED:20250211T183616Z
LAST-MODIFIED:20250624T154141Z
UID:10001468-1755781200-1755788400@pearlsbuck.org
SUMMARY:Volunteer Orientation
DESCRIPTION:Volunteers at Pearl S. Buck International play a vital role in sharing the history of Pearl S. Buck and her National Historic Landmark house\, organizing community events\, and raising funds for the organization. \nVolunteers fulfill this role by serving in various capacities. Docents and facilitators lead guided tours of the Pearl S. Buck House\, while clerks staff the International Gift Shop\, and office assistants help the staff of Pearl S. Buck International with office needs. There are also event organizer volunteers for the Juried Craft Show and Community Holiday Open House. To learn how you can become a volunteer at Pearl S. Buck International\, please reserve your spot and attend one of the volunteer orientations. Visit: https://pearlsbuck.org/support-us/volunteer/ 
URL:https://pearlsbuck.org/event/volunteer-orientation-5/2025-08-21/
LOCATION:Pearl S Buck International\, 520 Dublin Road\, Perkasie\, PA
CATEGORIES:Volunteers
ATTACH;FMTTYPE=image/jpeg:https://pearlsbuck.org/wp-content/uploads/2021/06/volunteers.jpg
END:VEVENT
BEGIN:VEVENT
DTSTART;TZID=America/New_York:20250821T183000
DTEND;TZID=America/New_York:20250821T220000
DTSTAMP:20260421T140737
CREATED:20250624T171238Z
LAST-MODIFIED:20250710T153826Z
UID:10001492-1755801000-1755813600@pearlsbuck.org
SUMMARY:Woman of Influence
DESCRIPTION:Pearl S. Buck International is thrilled to announce that Kim In-soon\, known professionally as Insooni\, has been selected as the 2025 Woman of Influence Award honoree. \nInsooni is an award-winning R&B and Gospel singer as well as a humanitarian and an advocate for young people of mixed race and multicultural backgrounds. Born to a South Korean mother and African-American father following the Korean War\, she was raised by her mother\, who received assistance from Pearl S. Buck International’s child sponsorship program. \nIn addition to her longstanding first-hand connection to the work and mission of Pearl S. Buck International\, Insooni also embodies the humanitarian\, cross-cultural\, and advocacy legacy of Pearl S. Buck. She overcame deep societal racial discrimination to become a success in the music industry and a household name in her home country and in 2023\, she was appointed by Prime Minister Han Duck-soo to the Multicultural Youth Families Support Council as an advocate for multicultural and mixed-race middle and high school students. \nInsooni also currently serves as a board member for Pearl S. Buck Foundation Korea\, an affiliate of Pearl S. Buck International. \nWe are thrilled that Insooni will be able to attend the Woman of Influence Dinner and Award Ceremony\, and will perform and accept her award in-person.
URL:https://pearlsbuck.org/event/woman-of-influence/
LOCATION:PA
CATEGORIES:Signature Events,Special Events
ATTACH;FMTTYPE=image/jpeg:https://pearlsbuck.org/wp-content/uploads/2025/03/d0166dea-ccda-4ac4-b7db-0e97d3ef379d_475261_TABLET_LANDSCAPE_LARGE_16_9.jpg
END:VEVENT
END:VCALENDAR