BEGIN:VCALENDAR
VERSION:2.0
PRODID:-//Pearl S. Buck International - ECPv6.15.20//NONSGML v1.0//EN
CALSCALE:GREGORIAN
METHOD:PUBLISH
X-WR-CALNAME:Pearl S. Buck International
X-ORIGINAL-URL:https://pearlsbuck.org
X-WR-CALDESC:Events for Pearl S. Buck International
REFRESH-INTERVAL;VALUE=DURATION:PT1H
X-Robots-Tag:noindex
X-PUBLISHED-TTL:PT1H
BEGIN:VTIMEZONE
TZID:America/New_York
BEGIN:DAYLIGHT
TZOFFSETFROM:-0500
TZOFFSETTO:-0400
TZNAME:EDT
DTSTART:20250309T070000
END:DAYLIGHT
BEGIN:STANDARD
TZOFFSETFROM:-0400
TZOFFSETTO:-0500
TZNAME:EST
DTSTART:20251102T060000
END:STANDARD
BEGIN:DAYLIGHT
TZOFFSETFROM:-0500
TZOFFSETTO:-0400
TZNAME:EDT
DTSTART:20260308T070000
END:DAYLIGHT
BEGIN:STANDARD
TZOFFSETFROM:-0400
TZOFFSETTO:-0500
TZNAME:EST
DTSTART:20261101T060000
END:STANDARD
BEGIN:DAYLIGHT
TZOFFSETFROM:-0500
TZOFFSETTO:-0400
TZNAME:EDT
DTSTART:20270314T070000
END:DAYLIGHT
BEGIN:STANDARD
TZOFFSETFROM:-0400
TZOFFSETTO:-0500
TZNAME:EST
DTSTART:20271107T060000
END:STANDARD
END:VTIMEZONE
BEGIN:VEVENT
DTSTART;TZID=America/New_York:20260720T083000
DTEND;TZID=America/New_York:20260720T153000
DTSTAMP:20260420T045133
CREATED:20260217T165336Z
LAST-MODIFIED:20260217T165336Z
UID:10001993-1784536200-1784561400@pearlsbuck.org
SUMMARY:High School Global Leadership Program
DESCRIPTION:The Global Leadership Program\, for high school students from grades 9 through 11\, is designed to help teens and young adults become better students\, college applicants\, global citizens\, and future leaders. Participants put their newly acquired skills to use working collaboratively on a service project of their choice\, with proceeds donated toward Pearl S. Buck International’s mission and work. \nStudents will have the opportunity to virtually meet a student from another country; they will also have the opportunity to visit the Pearl S. Buck House\, engage in hands on learning\, implement real life business tactics\, and use a wide variety of technology and inter-personal skills. At the completion of the program\, students and their families celebrate their success at a graduation and service project event\, knowing that they have made a contribution to the world.
URL:https://pearlsbuck.org/event/high-school-global-leadership-program-2/2026-07-20/
LOCATION:Pearl S Buck International\, 520 Dublin Road\, Perkasie\, PA
CATEGORIES:Intercultural Programs,Special Events
ATTACH;FMTTYPE=image/jpeg:https://pearlsbuck.org/wp-content/uploads/2021/12/d_33b158_f_be7Ud018svcf47l03hqob06_dk7m7o.jpg
END:VEVENT
BEGIN:VEVENT
DTSTART;TZID=America/New_York:20260721T083000
DTEND;TZID=America/New_York:20260721T153000
DTSTAMP:20260420T045133
CREATED:20260217T165336Z
LAST-MODIFIED:20260217T165336Z
UID:10001994-1784622600-1784647800@pearlsbuck.org
SUMMARY:High School Global Leadership Program
DESCRIPTION:The Global Leadership Program\, for high school students from grades 9 through 11\, is designed to help teens and young adults become better students\, college applicants\, global citizens\, and future leaders. Participants put their newly acquired skills to use working collaboratively on a service project of their choice\, with proceeds donated toward Pearl S. Buck International’s mission and work. \nStudents will have the opportunity to virtually meet a student from another country; they will also have the opportunity to visit the Pearl S. Buck House\, engage in hands on learning\, implement real life business tactics\, and use a wide variety of technology and inter-personal skills. At the completion of the program\, students and their families celebrate their success at a graduation and service project event\, knowing that they have made a contribution to the world.
URL:https://pearlsbuck.org/event/high-school-global-leadership-program-2/2026-07-21/
LOCATION:Pearl S Buck International\, 520 Dublin Road\, Perkasie\, PA
CATEGORIES:Intercultural Programs,Special Events
ATTACH;FMTTYPE=image/jpeg:https://pearlsbuck.org/wp-content/uploads/2021/12/d_33b158_f_be7Ud018svcf47l03hqob06_dk7m7o.jpg
END:VEVENT
BEGIN:VEVENT
DTSTART;TZID=America/New_York:20260722T083000
DTEND;TZID=America/New_York:20260722T153000
DTSTAMP:20260420T045133
CREATED:20260217T165336Z
LAST-MODIFIED:20260217T165336Z
UID:10001995-1784709000-1784734200@pearlsbuck.org
SUMMARY:High School Global Leadership Program
DESCRIPTION:The Global Leadership Program\, for high school students from grades 9 through 11\, is designed to help teens and young adults become better students\, college applicants\, global citizens\, and future leaders. Participants put their newly acquired skills to use working collaboratively on a service project of their choice\, with proceeds donated toward Pearl S. Buck International’s mission and work. \nStudents will have the opportunity to virtually meet a student from another country; they will also have the opportunity to visit the Pearl S. Buck House\, engage in hands on learning\, implement real life business tactics\, and use a wide variety of technology and inter-personal skills. At the completion of the program\, students and their families celebrate their success at a graduation and service project event\, knowing that they have made a contribution to the world.
URL:https://pearlsbuck.org/event/high-school-global-leadership-program-2/2026-07-22/
LOCATION:Pearl S Buck International\, 520 Dublin Road\, Perkasie\, PA
CATEGORIES:Intercultural Programs,Special Events
ATTACH;FMTTYPE=image/jpeg:https://pearlsbuck.org/wp-content/uploads/2021/12/d_33b158_f_be7Ud018svcf47l03hqob06_dk7m7o.jpg
END:VEVENT
BEGIN:VEVENT
DTSTART;TZID=America/New_York:20260723T083000
DTEND;TZID=America/New_York:20260723T153000
DTSTAMP:20260420T045133
CREATED:20260217T165336Z
LAST-MODIFIED:20260217T165336Z
UID:10001996-1784795400-1784820600@pearlsbuck.org
SUMMARY:High School Global Leadership Program
DESCRIPTION:The Global Leadership Program\, for high school students from grades 9 through 11\, is designed to help teens and young adults become better students\, college applicants\, global citizens\, and future leaders. Participants put their newly acquired skills to use working collaboratively on a service project of their choice\, with proceeds donated toward Pearl S. Buck International’s mission and work. \nStudents will have the opportunity to virtually meet a student from another country; they will also have the opportunity to visit the Pearl S. Buck House\, engage in hands on learning\, implement real life business tactics\, and use a wide variety of technology and inter-personal skills. At the completion of the program\, students and their families celebrate their success at a graduation and service project event\, knowing that they have made a contribution to the world.
URL:https://pearlsbuck.org/event/high-school-global-leadership-program-2/2026-07-23/
LOCATION:Pearl S Buck International\, 520 Dublin Road\, Perkasie\, PA
CATEGORIES:Intercultural Programs,Special Events
ATTACH;FMTTYPE=image/jpeg:https://pearlsbuck.org/wp-content/uploads/2021/12/d_33b158_f_be7Ud018svcf47l03hqob06_dk7m7o.jpg
END:VEVENT
BEGIN:VEVENT
DTSTART;TZID=America/New_York:20260724T083000
DTEND;TZID=America/New_York:20260724T153000
DTSTAMP:20260420T045133
CREATED:20260217T165336Z
LAST-MODIFIED:20260217T165336Z
UID:10001997-1784881800-1784907000@pearlsbuck.org
SUMMARY:High School Global Leadership Program
DESCRIPTION:The Global Leadership Program\, for high school students from grades 9 through 11\, is designed to help teens and young adults become better students\, college applicants\, global citizens\, and future leaders. Participants put their newly acquired skills to use working collaboratively on a service project of their choice\, with proceeds donated toward Pearl S. Buck International’s mission and work. \nStudents will have the opportunity to virtually meet a student from another country; they will also have the opportunity to visit the Pearl S. Buck House\, engage in hands on learning\, implement real life business tactics\, and use a wide variety of technology and inter-personal skills. At the completion of the program\, students and their families celebrate their success at a graduation and service project event\, knowing that they have made a contribution to the world.
URL:https://pearlsbuck.org/event/high-school-global-leadership-program-2/2026-07-24/
LOCATION:Pearl S Buck International\, 520 Dublin Road\, Perkasie\, PA
CATEGORIES:Intercultural Programs,Special Events
ATTACH;FMTTYPE=image/jpeg:https://pearlsbuck.org/wp-content/uploads/2021/12/d_33b158_f_be7Ud018svcf47l03hqob06_dk7m7o.jpg
END:VEVENT
END:VCALENDAR